BEGIN:VCALENDAR
VERSION:2.0
PRODID:-//Chadderton Town Hall - ECPv6.15.15//NONSGML v1.0//EN
CALSCALE:GREGORIAN
METHOD:PUBLISH
X-WR-CALNAME:Chadderton Town Hall
X-ORIGINAL-URL:https://www.chaddertontownhall.co.uk
X-WR-CALDESC:Events for Chadderton Town Hall
REFRESH-INTERVAL;VALUE=DURATION:PT1H
X-Robots-Tag:noindex
X-PUBLISHED-TTL:PT1H
BEGIN:VTIMEZONE
TZID:UTC
BEGIN:STANDARD
TZOFFSETFROM:+0000
TZOFFSETTO:+0000
TZNAME:UTC
DTSTART:20180101T000000
END:STANDARD
END:VTIMEZONE
BEGIN:VEVENT
DTSTART;TZID=UTC:20191204T120000
DTEND;TZID=UTC:20191204T160000
DTSTAMP:20260421T034222
CREATED:20191021T111629Z
LAST-MODIFIED:20191021T111631Z
UID:92-1575460800-1575475200@www.chaddertontownhall.co.uk
SUMMARY:Tea Dance
DESCRIPTION:
URL:https://www.chaddertontownhall.co.uk/event/tea-dance/
END:VEVENT
BEGIN:VEVENT
DTSTART;TZID=UTC:20191129T100000
DTEND;TZID=UTC:20191129T160000
DTSTAMP:20260421T034222
CREATED:20191021T111826Z
LAST-MODIFIED:20191021T111947Z
UID:197-1575021600-1575043200@www.chaddertontownhall.co.uk
SUMMARY:Xmas Markets
DESCRIPTION:
URL:https://www.chaddertontownhall.co.uk/event/xmas-markets/
END:VEVENT
END:VCALENDAR